BEGIN:VCALENDAR
VERSION:2.0
PRODID:-//Clicks From The Pit - ECPv6.15.17.1//NONSGML v1.0//EN
CALSCALE:GREGORIAN
METHOD:PUBLISH
X-WR-CALNAME:Clicks From The Pit
X-ORIGINAL-URL:https://clicksfromthepit.com
X-WR-CALDESC:Events for Clicks From The Pit
REFRESH-INTERVAL;VALUE=DURATION:PT1H
X-Robots-Tag:noindex
X-PUBLISHED-TTL:PT1H
BEGIN:VTIMEZONE
TZID:America/Phoenix
BEGIN:STANDARD
TZOFFSETFROM:-0700
TZOFFSETTO:-0700
TZNAME:MST
DTSTART:20250101T000000
END:STANDARD
END:VTIMEZONE
BEGIN:VEVENT
DTSTART;TZID=America/Phoenix:20260419T190000
DTEND;TZID=America/Phoenix:20260419T233000
DTSTAMP:20260419T080858
CREATED:20260414T124046Z
LAST-MODIFIED:20260414T124046Z
UID:6091-1776625200-1776641400@clicksfromthepit.com
SUMMARY:Insane Clown Posse at Marquee Theatre
DESCRIPTION:Part rap group\, part societal phenomenon\, Insane Clown Posse amassed an unlikely cult around their cartoonish and critically loathed horrorcore rap styles. Loosely connected themes of psychopathic clowns\, Faygo soda\, and the importance of friendship were enough for thousands of die-hard fans to don clown make up and proclaim themselves “juggalos\,” part of a community of Insane Clown Posse superfans drawn to their lowest-common-denominator humor and shock-factor rhymes. Staunchly independent\, ICP only had brief and controversy-heavy associations with major labels around the time of their 1997 album The Great Milenko\, but spent most of their decades of existence releasing their albums (as well as the music of an extended family of artists) on their own Psychopathic Records label. The group’s grassroots approach resulted in millions of album sales\, with a creative and commercial peak around the time of their highly conceptual late-’90s/early-2000s output. A loose narrative exposed over the course of several albums — records like 1995’s Riddle Box and 1999’s The Amazing Jeckel Brothers — was presented as different “joker’s cards\,” culminating with the spiritual reveal of 2002’s The Wraith: Shangri-La. At that point\, however\, the wicked clowns were the center of a global counterculture\, and they charged ahead for decades to come with releases like 2007’s The Tempest\, and the unveiling of a second deck of joker’s cards with albums like 2011’s Bang! Pow! Boom! and 2021’s Yum Yum Bedlam. \nDown to a duo\, ICP were originally formed in 1989 as a hardcore Detroit rap group called Inner City Posse. After combusting in 1991\, the only members left\, Violent J (born Joseph Bruce) and Shaggy 2 Dope (born Joseph Utsler)\, slightly altered their name to reflect the fact that they had been visited by the Carnival Spirit\, who ordered them to carry the word of an impending apocalypse by touring the nation and releasing six “joker cards” (popularly known as LPs) with successive revelations of the final judgment. The first\, Carnival of Carnage\, appeared in 1992 on their own Psychopathic Records label. The group became notorious in Detroit’s underground scene\, but several tours around the region failed to ignite much more than the rage of community leaders. \nDown to a duo\, ICP were originally formed in 1989 as a hardcore Detroit rap group called Inner City Posse. After combusting in 1991\, the only members left\, Violent J (born Joseph Bruce) and Shaggy 2 Dope (born Joseph Utsler)\, slightly altered their name to reflect the fact that they had been visited by the Carnival Spirit\, who ordered them to carry the word of an impending apocalypse by touring the nation and releasing six “joker cards” (popularly known as LPs) with successive revelations of the final judgment. The first\, Carnival of Carnage\, appeared in 1992 on their own Psychopathic Records label. The group became notorious in Detroit’s underground scene\, but several tours around the region failed to ignite much more than the rage of community leaders. \nOn Halloween 2000\, the group issued its sixth album\, which apparently did not count (as all the other albums had) as a joker card (in the ICP fantasy world\, the sixth joker card was supposed to signal the apocalypse). Similar to Guns N’ Roses‘ Use Your Illusion\, the album was released in two completely different\, separate versions\, titled Bizzar and Bizaar. Finally needing to live up to the years of hype\, 2002’s The Wraith: Shangri-La revealed that the hidden message of their music was always to follow God and make it to Heaven. Considering the murder fantasies of “Beverly Kills 50187” and the necrophiliac overtones of “Cemetery Girl\,” this may have been a shock to longtime fans. \nIn August 2004\, the band released the sixth and final joker card\, Hell’s Pit\, in two separate editions; both had the same CD but were packed with different DVDs. Nevertheless\, the Dark Carnival wasn’t fully shuttered. Spring 2005 found ICP hyping a new direction for the mythology\, to be revealed with the May release of Calm. The EP also prepped Insane Clown Posse’s devoted fan base for the sixth annual Gathering of the Juggalos that July. Their 2007 effort\, The Tempest\, found the duo reuniting with producer Mike E. Clark\, the man behind the first four joker card releases. Clark stuck around for their 2009 Bang! Pow! Boom! album. That same year\, the duo presented a second feature-length film. This time exploring a western motif\, Big Money Rustlas featured the clowns in gunslinger garb and was again released outside of theaters. \nFeaturing Freshness\, a two-disc collection of the group’s work with other artists\, arrived in 2011. A year later\, the conceptual The Mighty Death Pop focused on their detractors and other “certified hoes\,” with Clark returning as producer. In 2015\, The Marvelous Missing Link (Lost) landed as the first of that year’s two albums\, while The Marvelous Missing Link (Found) landed later in the year. In 2017\, while recording the next joker card\, the duo released a pair of solo albums\, with Shaggy 2 Dope‘s F.T.F.O.M.F. arriving months before Violent J‘s American Life/Lives. In mid-2018\, the group announced that their 15th studio album\, Fearless Fred Fury\, would be released in October of that year\, but it was ultimately pushed back until February 2019. An eight-song EP\, Flip the Rat\, was scheduled for release on the same day. In advance of the group’s next studio album\, they released the eight-song EP Yum Yum’s Lure in February of 2021\, eventually delivering a full album\, Yum Yum Bedlam\, on the last day of October that same year. The album represented the fifth joker’s card in the second deck of the ongoing Dark Carnival saga\, and included guest appearances from Roadside Ghost and Vinnie Dombroski.
URL:https://clicksfromthepit.com/event/insane-clown-posse-at-marquee-theatre/
LOCATION:Marquee Theatre\, 730 N Mill Ave\, Tempe\, AZ\, 85281\, United States
ATTACH;FMTTYPE=image/png:https://clicksfromthepit.com/wp-content/uploads/2026/04/Insane-Clown-Posse-at-Marquee-Theatre.png
END:VEVENT
BEGIN:VEVENT
DTSTART;TZID=America/Phoenix:20260425T100000
DTEND;TZID=America/Phoenix:20260425T233000
DTSTAMP:20260419T080858
CREATED:20260404T034058Z
LAST-MODIFIED:20260404T034058Z
UID:6007-1777111200-1777159800@clicksfromthepit.com
SUMMARY:Sick New World 2026 at Las Vegas Festival Grounds
DESCRIPTION:After hitting a bump in the road in 2025\, the Sick New World festival is returning in a big way in 2026\, staging massive one-day events in both Las Vegas and Forth Worth\, Texas\, both headlined by System of a Down. \nThe 2026 Vegas edition\, taking place April 25th at the Las Vegas Festival Grounds\, boasts System of a Down\, Korn\, Bring Me the Horizon\, Ministry\, Evanescence\, Marilyn Manson\, AFI\, Acid Bath\, Knocked Loose\, Danny Elfman\, Cypress Hill\, Mastodon\, Underoath\, Melvins\, Filter\, Clutch\, and many more acts. \nTICKETS\nThe inaugural Fort Worth edition\, set for October 24th\, 2026\, at the Texas Motor Speedway\, features System of a Down\, Deftones\, Slayer (celebrating the 40th anniversary of Reign in Blood)\, Evanescence\, Ministry\, AFI\, Mastodon\, Knocked Loose\, Power Trip\, The Prodigy\, Underoath\, Clutch\, Down\, Melvins\, and more. \nA pre-sale for the Vegas edition of Sick New World festival starts Thursday\, October 23rd\, at 10 a.m. local time\, using the code SICK26 at this location. The pre-sale for Texas starts on Friday\, October 24th\, at 10 a.m. local time using the code SICK26 at this link. \nThe 2025 edition that was set to feature Metallica and Linkin Park in Las Vegas was abruptly canceled within weeks of its announcement\, reportedly due to low ticket sales. For 2026\, organizers once again tapped System of a Down\, who headlined the successful first two editions of Sick New World in 2023 and 2024 in Sin City. \nSee the full lineups for both festivals in the posters below.
URL:https://clicksfromthepit.com/event/sick-new-world-2026-at-las-vegas-festival-grounds/
LOCATION:Las Vegas Festival Grounds\, 2880 S Las Vegas Blvd\, Las Vegas\, NV\, 89109\, United States
ATTACH;FMTTYPE=image/webp:https://clicksfromthepit.com/wp-content/uploads/2026/04/Sick-New-World-2026-in-Las-Vegas.webp
END:VEVENT
END:VCALENDAR